Package: CSAR Version: 1.63.0 Command: /home/biocbuild/bbs-3.23-bioc/R/bin/R CMD build --keep-empty-dirs --no-resave-data CSAR StartedAt: 2025-11-14 17:03:29 -0500 (Fri, 14 Nov 2025) EndedAt: 2025-11-14 17:03:54 -0500 (Fri, 14 Nov 2025) EllapsedTime: 25.0 seconds RetCode: 0 Status: OK PackageFile: CSAR_1.63.0.tar.gz PackageFileSize: 233.2 KiB