Package: CSAR Version: 1.63.0 Command: /Library/Frameworks/R.framework/Resources/bin/R CMD build --keep-empty-dirs --no-resave-data CSAR StartedAt: 2025-11-13 16:05:13 -0500 (Thu, 13 Nov 2025) EndedAt: 2025-11-13 16:05:26 -0500 (Thu, 13 Nov 2025) EllapsedTime: 13.2 seconds RetCode: 0 Status: OK PackageFile: CSAR_1.63.0.tar.gz PackageFileSize: 233.2 KiB