Package: CRImage Version: 1.59.0 Command: /home/biocbuild/bbs-3.23-bioc/R/bin/R CMD INSTALL CRImage StartedAt: 2025-11-13 15:12:25 -0500 (Thu, 13 Nov 2025) EndedAt: 2025-11-13 15:12:37 -0500 (Thu, 13 Nov 2025) EllapsedTime: 11.1 seconds RetCode: 0 Status: OK