Package: CRImage Version: 1.59.0 Command: /home/biocbuild/bbs-3.23-bioc/R/bin/R CMD build --keep-empty-dirs --no-resave-data CRImage StartedAt: 2025-11-13 17:00:37 -0500 (Thu, 13 Nov 2025) EndedAt: 2025-11-13 17:01:00 -0500 (Thu, 13 Nov 2025) EllapsedTime: 23.0 seconds RetCode: 0 Status: OK PackageFile: CRImage_1.59.0.tar.gz PackageFileSize: 7.653 MiB