Package: CRImage Version: 1.59.0 Command: /Library/Frameworks/R.framework/Resources/bin/R CMD INSTALL CRImage StartedAt: 2025-11-12 15:22:35 -0500 (Wed, 12 Nov 2025) EndedAt: 2025-11-12 15:22:39 -0500 (Wed, 12 Nov 2025) EllapsedTime: 4.2 seconds RetCode: 0 Status: OK