Package: CRImage Version: 1.59.0 Command: /Library/Frameworks/R.framework/Resources/bin/R CMD build --keep-empty-dirs --no-resave-data CRImage StartedAt: 2025-11-12 16:03:26 -0500 (Wed, 12 Nov 2025) EndedAt: 2025-11-12 16:03:36 -0500 (Wed, 12 Nov 2025) EllapsedTime: 10.1 seconds RetCode: 0 Status: OK PackageFile: CRImage_1.59.0.tar.gz PackageFileSize: 7.651 MiB