Package: CRImage Version: 1.59.0 Command: rm -rf CRImage.buildbin-libdir && mkdir CRImage.buildbin-libdir && /Users/biocbuild/BBS/utils/build-universal.sh CRImage_1.59.0.tar.gz /Library/Frameworks/R.framework/Resources/bin/R CRImage.buildbin-libdir StartedAt: 2025-11-12 20:55:05 -0500 (Wed, 12 Nov 2025) EndedAt: 2025-11-12 20:55:11 -0500 (Wed, 12 Nov 2025) EllapsedTime: 6.1 seconds RetCode: 0 Status: OK PackageFile: CRImage_1.59.0.tgz PackageFileSize: 6.549 MiB