Package: CRImage Version: 1.59.0 Maintainer: Henrik Failmezger , Yinyin Yuan MaintainerEmail: Yinyin.Yuan at cancer.org.uk git_url: https://git.bioconductor.org/packages/CRImage git_branch: devel git_last_commit: 850c6ef git_last_commit_date: 2025-10-29 10:05:56 -0500 (Wed, 29 Oct 2025)