Package: CRISPRseek Version: 1.51.0 Command: /home/biocbuild/bbs-3.23-bioc/R/bin/R CMD INSTALL CRISPRseek StartedAt: 2025-11-14 15:40:32 -0500 (Fri, 14 Nov 2025) EndedAt: 2025-11-14 15:41:13 -0500 (Fri, 14 Nov 2025) EllapsedTime: 40.8 seconds RetCode: 0 Status: OK