Package: CRISPRseek Version: 1.51.0 Command: /home/biocbuild/bbs-3.23-bioc/R/bin/R CMD build --keep-empty-dirs --no-resave-data CRISPRseek StartedAt: 2025-11-14 17:02:07 -0500 (Fri, 14 Nov 2025) EndedAt: 2025-11-14 17:04:53 -0500 (Fri, 14 Nov 2025) EllapsedTime: 166.1 seconds RetCode: 0 Status: OK PackageFile: CRISPRseek_1.51.0.tar.gz PackageFileSize: 11.83 MiB