Package: CRISPRseek Version: 1.51.0 Command: /Library/Frameworks/R.framework/Resources/bin/R CMD build --keep-empty-dirs --no-resave-data CRISPRseek StartedAt: 2025-11-13 16:04:26 -0500 (Thu, 13 Nov 2025) EndedAt: 2025-11-13 16:05:38 -0500 (Thu, 13 Nov 2025) EllapsedTime: 71.8 seconds RetCode: 0 Status: OK PackageFile: CRISPRseek_1.51.0.tar.gz PackageFileSize: 11.83 MiB