Package: CRISPRseek Version: 1.51.0 Command: rm -rf CRISPRseek.buildbin-libdir && mkdir CRISPRseek.buildbin-libdir && /Users/biocbuild/BBS/utils/build-universal.sh CRISPRseek_1.51.0.tar.gz /Library/Frameworks/R.framework/Resources/bin/R CRISPRseek.buildbin-libdir StartedAt: 2025-11-13 23:33:32 -0500 (Thu, 13 Nov 2025) EndedAt: 2025-11-13 23:33:53 -0500 (Thu, 13 Nov 2025) EllapsedTime: 21.4 seconds RetCode: 0 Status: OK PackageFile: CRISPRseek_1.51.0.tgz PackageFileSize: 12.11 MiB