Package: CRISPRball Version: 1.7.0 Command: /home/biocbuild/bbs-3.23-bioc/R/bin/R CMD INSTALL CRISPRball StartedAt: 2025-11-14 15:54:18 -0500 (Fri, 14 Nov 2025) EndedAt: 2025-11-14 15:54:53 -0500 (Fri, 14 Nov 2025) EllapsedTime: 34.8 seconds RetCode: 0 Status: OK