Package: CRISPRball Version: 1.7.0 Command: /home/biocbuild/bbs-3.23-bioc/R/bin/R CMD build --keep-empty-dirs --no-resave-data CRISPRball StartedAt: 2025-11-14 17:01:11 -0500 (Fri, 14 Nov 2025) EndedAt: 2025-11-14 17:01:50 -0500 (Fri, 14 Nov 2025) EllapsedTime: 39.0 seconds RetCode: 0 Status: OK PackageFile: CRISPRball_1.7.0.tar.gz PackageFileSize: 2.614 MiB