Package: CRISPRball Version: 1.7.0 Command: /Library/Frameworks/R.framework/Resources/bin/R CMD INSTALL CRISPRball StartedAt: 2025-11-14 15:29:05 -0500 (Fri, 14 Nov 2025) EndedAt: 2025-11-14 15:29:20 -0500 (Fri, 14 Nov 2025) EllapsedTime: 14.4 seconds RetCode: 0 Status: OK