Package: CRISPRball Version: 1.7.0 Command: /Library/Frameworks/R.framework/Resources/bin/R CMD build --keep-empty-dirs --no-resave-data CRISPRball StartedAt: 2025-11-14 16:00:51 -0500 (Fri, 14 Nov 2025) EndedAt: 2025-11-14 16:01:06 -0500 (Fri, 14 Nov 2025) EllapsedTime: 15.2 seconds RetCode: 0 Status: OK PackageFile: CRISPRball_1.7.0.tar.gz PackageFileSize: 2.614 MiB