Package: CRISPRball Version: 1.7.0 Command: rm -rf CRISPRball.buildbin-libdir && mkdir CRISPRball.buildbin-libdir && /Users/biocbuild/BBS/utils/build-universal.sh CRISPRball_1.7.0.tar.gz /Library/Frameworks/R.framework/Resources/bin/R CRISPRball.buildbin-libdir StartedAt: 2025-11-14 23:28:31 -0500 (Fri, 14 Nov 2025) EndedAt: 2025-11-14 23:28:48 -0500 (Fri, 14 Nov 2025) EllapsedTime: 17.4 seconds RetCode: 0 Status: OK PackageFile: CRISPRball_1.7.0.tgz PackageFileSize: 2.298 MiB