Package: CPSM Version: 1.3.0 Command: /home/biocbuild/bbs-3.23-bioc/R/bin/R CMD INSTALL CPSM StartedAt: 2025-11-13 15:33:22 -0500 (Thu, 13 Nov 2025) EndedAt: 2025-11-13 15:33:56 -0500 (Thu, 13 Nov 2025) EllapsedTime: 34.4 seconds RetCode: 0 Status: OK