Package: CPSM Version: 1.3.0 Command: /Library/Frameworks/R.framework/Resources/bin/R CMD INSTALL CPSM StartedAt: 2025-11-13 15:19:41 -0500 (Thu, 13 Nov 2025) EndedAt: 2025-11-13 15:19:54 -0500 (Thu, 13 Nov 2025) EllapsedTime: 13.9 seconds RetCode: 0 Status: OK