Package: CPSM Version: 1.3.0 Command: /Library/Frameworks/R.framework/Resources/bin/R CMD build --keep-empty-dirs --no-resave-data CPSM StartedAt: 2025-11-13 16:03:28 -0500 (Thu, 13 Nov 2025) EndedAt: 2025-11-13 16:04:26 -0500 (Thu, 13 Nov 2025) EllapsedTime: 58.6 seconds RetCode: 0 Status: OK PackageFile: CPSM_1.3.0.tar.gz PackageFileSize: 4.315 MiB