Package: COTAN Version: 2.11.0 Command: /home/biocbuild/bbs-3.23-bioc/R/bin/R CMD INSTALL COTAN StartedAt: 2025-11-27 15:51:58 -0500 (Thu, 27 Nov 2025) EndedAt: 2025-11-27 15:52:44 -0500 (Thu, 27 Nov 2025) EllapsedTime: 46.1 seconds RetCode: 0 Status: OK