Package: COTAN Version: 2.11.0 Command: /Library/Frameworks/R.framework/Resources/bin/R CMD build --keep-empty-dirs --no-resave-data COTAN StartedAt: 2025-11-14 15:59:45 -0500 (Fri, 14 Nov 2025) EndedAt: 2025-11-14 16:02:42 -0500 (Fri, 14 Nov 2025) EllapsedTime: 177.9 seconds RetCode: 0 Status: OK PackageFile: COTAN_2.11.0.tar.gz PackageFileSize: 4.115 MiB