Package: COTAN Version: 2.11.0 Command: rm -rf COTAN.buildbin-libdir && mkdir COTAN.buildbin-libdir && /Users/biocbuild/BBS/utils/build-universal.sh COTAN_2.11.0.tar.gz /Library/Frameworks/R.framework/Resources/bin/R COTAN.buildbin-libdir StartedAt: 2025-11-14 23:28:21 -0500 (Fri, 14 Nov 2025) EndedAt: 2025-11-14 23:28:44 -0500 (Fri, 14 Nov 2025) EllapsedTime: 23.5 seconds RetCode: 0 Status: OK PackageFile: COTAN_2.11.0.tgz PackageFileSize: 4.695 MiB