Package: COSNet Version: 1.45.0 Command: /home/biocbuild/bbs-3.23-bioc/R/bin/R CMD INSTALL COSNet StartedAt: 2025-11-13 15:07:21 -0500 (Thu, 13 Nov 2025) EndedAt: 2025-11-13 15:07:43 -0500 (Thu, 13 Nov 2025) EllapsedTime: 22.8 seconds RetCode: 0 Status: OK