Package: COSNet Version: 1.45.0 Command: /home/biocbuild/bbs-3.23-bioc/R/bin/R CMD check --install=check:COSNet.install-out.txt --library=/home/biocbuild/bbs-3.23-bioc/R/site-library --timings COSNet_1.45.0.tar.gz StartedAt: 2025-11-13 22:22:54 -0500 (Thu, 13 Nov 2025) EndedAt: 2025-11-13 22:28:17 -0500 (Thu, 13 Nov 2025) EllapsedTime: 322.5 seconds RetCode: 0 Status: WARNINGS CheckDir: COSNet.Rcheck Warnings: 1