Package: COSNet Version: 1.45.0 Command: /home/biocbuild/bbs-3.23-bioc/R/bin/R CMD build --keep-empty-dirs --no-resave-data COSNet StartedAt: 2025-11-13 16:58:58 -0500 (Thu, 13 Nov 2025) EndedAt: 2025-11-13 17:03:45 -0500 (Thu, 13 Nov 2025) EllapsedTime: 287.2 seconds RetCode: 0 Status: OK PackageFile: COSNet_1.45.0.tar.gz PackageFileSize: 520.3 KiB