Package: COSNet Version: 1.45.0 Command: /Library/Frameworks/R.framework/Resources/bin/R CMD check --install=check:COSNet.install-out.txt --library=/Library/Frameworks/R.framework/Resources/library --no-vignettes --timings COSNet_1.45.0.tar.gz StartedAt: 2025-11-14 19:13:28 -0500 (Fri, 14 Nov 2025) EndedAt: 2025-11-14 19:13:48 -0500 (Fri, 14 Nov 2025) EllapsedTime: 20.2 seconds RetCode: 0 Status: WARNINGS CheckDir: COSNet.Rcheck Warnings: 1