Package: COSNet Version: 1.45.0 Command: /Library/Frameworks/R.framework/Resources/bin/R CMD build --keep-empty-dirs --no-resave-data COSNet StartedAt: 2025-11-13 16:02:54 -0500 (Thu, 13 Nov 2025) EndedAt: 2025-11-13 16:07:29 -0500 (Thu, 13 Nov 2025) EllapsedTime: 275.0 seconds RetCode: 0 Status: OK PackageFile: COSNet_1.45.0.tar.gz PackageFileSize: 520.3 KiB