Package: COSNet Version: 1.45.0 Command: rm -rf COSNet.buildbin-libdir && mkdir COSNet.buildbin-libdir && /Users/biocbuild/BBS/utils/build-universal.sh COSNet_1.45.0.tar.gz /Library/Frameworks/R.framework/Resources/bin/R COSNet.buildbin-libdir StartedAt: 2025-11-14 23:28:20 -0500 (Fri, 14 Nov 2025) EndedAt: 2025-11-14 23:28:23 -0500 (Fri, 14 Nov 2025) EllapsedTime: 3.1 seconds RetCode: 0 Status: OK PackageFile: COSNet_1.45.0.tgz PackageFileSize: 561.7 KiB