Package: CONSTANd Version: 1.19.0 Command: /Library/Frameworks/R.framework/Resources/bin/R CMD INSTALL CONSTANd StartedAt: 2025-11-13 15:01:17 -0500 (Thu, 13 Nov 2025) EndedAt: 2025-11-13 15:01:18 -0500 (Thu, 13 Nov 2025) EllapsedTime: 1.4 seconds RetCode: 0 Status: OK