Package: CONSTANd Version: 1.19.0 Command: rm -rf CONSTANd.buildbin-libdir && mkdir CONSTANd.buildbin-libdir && /Users/biocbuild/BBS/utils/build-universal.sh CONSTANd_1.19.0.tar.gz /Library/Frameworks/R.framework/Resources/bin/R CONSTANd.buildbin-libdir StartedAt: 2025-11-13 23:32:59 -0500 (Thu, 13 Nov 2025) EndedAt: 2025-11-13 23:33:01 -0500 (Thu, 13 Nov 2025) EllapsedTime: 2.0 seconds RetCode: 0 Status: OK PackageFile: CONSTANd_1.19.0.tgz PackageFileSize: 1.554 MiB