Package: CONSTANd Version: 1.19.0 Maintainer: Dirk Valkenborg MaintainerEmail: dirk.valkenborg at uhasselt.be git_url: https://git.bioconductor.org/packages/CONSTANd git_branch: devel git_last_commit: 5d9a80c git_last_commit_date: 2025-10-29 11:05:36 -0500 (Wed, 29 Oct 2025)