############################################################################## ############################################################################## ### ### Running command: ### ### /Library/Frameworks/R.framework/Resources/bin/R CMD build --keep-empty-dirs --no-resave-data CONFESS ### ############################################################################## ############################################################################## * checking for file ‘CONFESS/DESCRIPTION’ ... OK * preparing ‘CONFESS’: * checking DESCRIPTION meta-information ... OK * installing the package (it is needed to build vignettes) ----------------------------------- ERROR: dependencies ‘flowCore’, ‘flowClust’, ‘flowMeans’, ‘flowMerge’ are not available for package ‘CONFESS’ Perhaps try a variation of: install.packages(c('flowCore', 'flowClust', 'flowMeans', 'flowMerge')) * removing ‘/private/var/folders/r0/l4fjk6cj5xj0j3brt4bplpl40000gt/T/Rtmpns5UL5/Rinstf3647ce53921/CONFESS’ ----------------------------------- ERROR: package installation failed