Package: CONFESS Version: 1.39.0 Maintainer: Diana LOW MaintainerEmail: lowdiana at gmail.com git_url: https://git.bioconductor.org/packages/CONFESS git_branch: devel git_last_commit: b97e3ac git_last_commit_date: 2025-10-29 10:31:27 -0500 (Wed, 29 Oct 2025)