Package: COMPASS Version: 1.49.0 Command: /home/biocbuild/bbs-3.23-bioc/R/bin/R CMD INSTALL COMPASS StartedAt: 2025-11-11 15:12:48 -0500 (Tue, 11 Nov 2025) EndedAt: 2025-11-11 15:13:43 -0500 (Tue, 11 Nov 2025) EllapsedTime: 55.5 seconds RetCode: 0 Status: OK