Package: COMPASS Version: 1.49.0 Command: /Library/Frameworks/R.framework/Resources/bin/R CMD INSTALL COMPASS StartedAt: 2025-11-12 15:19:40 -0500 (Wed, 12 Nov 2025) EndedAt: 2025-11-12 15:19:54 -0500 (Wed, 12 Nov 2025) EllapsedTime: 13.8 seconds RetCode: 0 Status: OK