Package: COMPASS Version: 1.49.0 Command: /Library/Frameworks/R.framework/Resources/bin/R CMD build --keep-empty-dirs --no-resave-data COMPASS StartedAt: 2025-11-12 16:01:56 -0500 (Wed, 12 Nov 2025) EndedAt: 2025-11-12 16:03:47 -0500 (Wed, 12 Nov 2025) EllapsedTime: 111.3 seconds RetCode: 0 Status: OK PackageFile: COMPASS_1.49.0.tar.gz PackageFileSize: 1.305 MiB