Package: COMPASS Version: 1.49.0 Command: rm -rf COMPASS.buildbin-libdir && mkdir COMPASS.buildbin-libdir && /Users/biocbuild/BBS/utils/build-universal.sh COMPASS_1.49.0.tar.gz /Library/Frameworks/R.framework/Resources/bin/R COMPASS.buildbin-libdir StartedAt: 2025-11-12 20:54:41 -0500 (Wed, 12 Nov 2025) EndedAt: 2025-11-12 20:54:50 -0500 (Wed, 12 Nov 2025) EllapsedTime: 8.1 seconds RetCode: 0 Status: OK PackageFile: COMPASS_1.49.0.tgz PackageFileSize: 1.421 MiB