Package: COMPASS Version: 1.49.0 Maintainer: Greg Finak MaintainerEmail: gfinak at fhcrc.org git_url: https://git.bioconductor.org/packages/COMPASS git_branch: devel git_last_commit: 43c7ae7 git_last_commit_date: 2025-10-29 10:18:03 -0500 (Wed, 29 Oct 2025)