Package: CODEX Version: 1.43.0 Command: /home/biocbuild/bbs-3.23-bioc/R/bin/R CMD INSTALL CODEX StartedAt: 2025-11-11 15:38:33 -0500 (Tue, 11 Nov 2025) EndedAt: 2025-11-11 15:39:04 -0500 (Tue, 11 Nov 2025) EllapsedTime: 31.0 seconds RetCode: 0 Status: OK