Package: CODEX Version: 1.43.0 Command: /home/biocbuild/bbs-3.23-bioc/R/bin/R CMD build --keep-empty-dirs --no-resave-data CODEX StartedAt: 2025-11-11 16:57:32 -0500 (Tue, 11 Nov 2025) EndedAt: 2025-11-11 16:59:17 -0500 (Tue, 11 Nov 2025) EllapsedTime: 105.1 seconds RetCode: 0 Status: OK PackageFile: CODEX_1.43.0.tar.gz PackageFileSize: 915.3 KiB