Package: CODEX Version: 1.43.0 Command: /Library/Frameworks/R.framework/Resources/bin/R CMD INSTALL CODEX StartedAt: 2025-11-12 15:36:48 -0500 (Wed, 12 Nov 2025) EndedAt: 2025-11-12 15:37:02 -0500 (Wed, 12 Nov 2025) EllapsedTime: 13.4 seconds RetCode: 0 Status: OK