Package: CODEX Version: 1.43.0 Command: /Library/Frameworks/R.framework/Resources/bin/R CMD build --keep-empty-dirs --no-resave-data CODEX StartedAt: 2025-11-12 16:01:23 -0500 (Wed, 12 Nov 2025) EndedAt: 2025-11-12 16:02:02 -0500 (Wed, 12 Nov 2025) EllapsedTime: 39.5 seconds RetCode: 0 Status: OK PackageFile: CODEX_1.43.0.tar.gz PackageFileSize: 913.9 KiB