Package: CODEX Version: 1.43.0 Maintainer: Yuchao Jiang MaintainerEmail: yuchaoj at wharton.upenn.edu git_url: https://git.bioconductor.org/packages/CODEX git_branch: devel git_last_commit: 6fce599 git_last_commit_date: 2025-10-29 10:23:27 -0500 (Wed, 29 Oct 2025)