Package: COCOA Version: 2.25.0 Command: /home/biocbuild/bbs-3.23-bioc/R/bin/R CMD INSTALL COCOA StartedAt: 2025-11-14 15:38:03 -0500 (Fri, 14 Nov 2025) EndedAt: 2025-11-14 15:38:49 -0500 (Fri, 14 Nov 2025) EllapsedTime: 45.4 seconds RetCode: 0 Status: OK