Package: COCOA Version: 2.25.0 Command: /Library/Frameworks/R.framework/Resources/bin/R CMD INSTALL COCOA StartedAt: 2025-11-12 15:34:35 -0500 (Wed, 12 Nov 2025) EndedAt: 2025-11-12 15:34:36 -0500 (Wed, 12 Nov 2025) EllapsedTime: 1.0 seconds RetCode: 1 Status: ERROR