Package: COCOA Version: 2.25.0 Maintainer: John Lawson MaintainerEmail: jtl2hk at virginia.edu git_url: https://git.bioconductor.org/packages/COCOA git_branch: devel git_last_commit: a245a29 git_last_commit_date: 2025-10-29 10:48:30 -0500 (Wed, 29 Oct 2025)