Package: CNVrd2 Version: 1.49.0 Command: /home/biocbuild/bbs-3.23-bioc/R/bin/R CMD build --keep-empty-dirs --no-resave-data CNVrd2 StartedAt: 2025-11-14 16:53:37 -0500 (Fri, 14 Nov 2025) EndedAt: 2025-11-14 16:54:51 -0500 (Fri, 14 Nov 2025) EllapsedTime: 74.0 seconds RetCode: 0 Status: OK PackageFile: CNVrd2_1.49.0.tar.gz PackageFileSize: 2.826 MiB