Package: CNVrd2 Version: 1.49.0 Maintainer: Hoang Tan Nguyen MaintainerEmail: hoangtannguyenvn at gmail.com git_url: https://git.bioconductor.org/packages/CNVrd2 git_branch: devel git_last_commit: 1ed26d8 git_last_commit_date: 2025-10-29 10:17:16 -0500 (Wed, 29 Oct 2025)