Package: CNViz Version: 1.19.0 Command: /home/biocbuild/bbs-3.23-bioc/R/bin/R CMD build --keep-empty-dirs --no-resave-data CNViz StartedAt: 2025-11-26 16:53:57 -0500 (Wed, 26 Nov 2025) EndedAt: 2025-11-26 16:54:57 -0500 (Wed, 26 Nov 2025) EllapsedTime: 60.0 seconds RetCode: 0 Status: OK PackageFile: CNViz_1.19.0.tar.gz PackageFileSize: 115.6 KiB